BEGIN:VCALENDAR
VERSION:2.0
PRODID:-//Tukios.com/
BEGIN:VEVENT
UID:7308d00a-285d-4882-a1e6-a16f1b10aadd@www.starmortuary.com
DTSTAMP:20260425T210329Z
DTSTART:20260426T210000Z
DTEND:20260426T220000Z
SUMMARY:Celebration of Life
DESCRIPTION:
URL:https://www.starmortuary.com/obituaries/lorie-dominguez
LOCATION:Bunkerville Park 200 Virgin Street  Bunkerville NV 89007
GEO:36.7734073;-114.1301867
END:VEVENT
END:VCALENDAR