BEGIN:VCALENDAR
VERSION:2.0
PRODID:-//Tukios.com/
BEGIN:VEVENT
UID:042c9826-a89a-47c2-8ba5-ac09eb858a81@www.starmortuary.com
DTSTAMP:20260422T233341Z
DTSTART:20260502T160000Z
DTEND:20260502T171500Z
SUMMARY:Viewing
DESCRIPTION:
URL:https://www.starmortuary.com/obituaries/ruth-beaumont
LOCATION:LDS Chapel - Mustang Street 3200 N Mustang St  Las Vegas NV 
	89108
GEO:36.2179818;-115.2314341
END:VEVENT
END:VCALENDAR