BEGIN:VCALENDAR
VERSION:2.0
PRODID:-//Tukios.com/
BEGIN:VEVENT
UID:770b886f-f61d-45c0-a67f-1cb8b8a6d282@www.starmortuary.com
DTSTAMP:20260422T233713Z
DTSTART:20260502T173000Z
DTEND:20260502T183000Z
SUMMARY:Funeral Service
DESCRIPTION:
URL:https://www.starmortuary.com/obituaries/ruth-beaumont
LOCATION: 3200 N Mustang St  Las Vegas NV 89108
GEO:36.2179818;-115.2314341
END:VEVENT
END:VCALENDAR