BEGIN:VCALENDAR
VERSION:2.0
PRODID:-//Tukios.com/
BEGIN:VEVENT
UID:b94e604c-3623-4cab-ae2d-c9dd8ff3e034@www.starmortuary.com
DTSTAMP:20260422T233713Z
DTSTART:20260502T213000Z
DTEND:20260502T223000Z
SUMMARY:Graveside Service
DESCRIPTION:
URL:https://www.starmortuary.com/obituaries/ruth-beaumont
LOCATION: 301 Hillside Dr  Mesquite NV 89027
GEO:36.812194;-114.0616821
END:VEVENT
END:VCALENDAR